BEGIN:VCALENDAR
VERSION:2.0
PRODID:-//PN Online - ECPv6.15.20//NONSGML v1.0//EN
CALSCALE:GREGORIAN
METHOD:PUBLISH
X-WR-CALNAME:PN Online
X-ORIGINAL-URL:https://pnonline.com
X-WR-CALDESC:Events for PN Online
REFRESH-INTERVAL;VALUE=DURATION:PT1H
X-Robots-Tag:noindex
X-PUBLISHED-TTL:PT1H
BEGIN:VTIMEZONE
TZID:America/Phoenix
BEGIN:STANDARD
TZOFFSETFROM:-0700
TZOFFSETTO:-0700
TZNAME:MST
DTSTART:20250101T000000
END:STANDARD
END:VTIMEZONE
BEGIN:VEVENT
DTSTART;VALUE=DATE:20260430
DTEND;VALUE=DATE:20260502
DTSTAMP:20260423T140032
CREATED:20260205T191505Z
LAST-MODIFIED:20260205T191505Z
UID:11926-1777507200-1777679999@pnonline.com
SUMMARY:2026 Abilities International Accessibility Conference - New York Metro
DESCRIPTION:xpo \n 
URL:https://pnonline.com/event/2026-abilities-international-accessibility-conference-new-york-metro/
LOCATION:New Jersey Convention Center\, 97 Sunfield Ave\, Edison\, NJ\, 08837\, United States
CATEGORIES:Health Expo
END:VEVENT
END:VCALENDAR