BEGIN:VCALENDAR
VERSION:2.0
PRODID:-//PN Online - ECPv6.15.20//NONSGML v1.0//EN
CALSCALE:GREGORIAN
METHOD:PUBLISH
X-WR-CALNAME:PN Online
X-ORIGINAL-URL:https://pnonline.com
X-WR-CALDESC:Events for PN Online
REFRESH-INTERVAL;VALUE=DURATION:PT1H
X-Robots-Tag:noindex
X-PUBLISHED-TTL:PT1H
BEGIN:VTIMEZONE
TZID:America/Phoenix
BEGIN:STANDARD
TZOFFSETFROM:-0700
TZOFFSETTO:-0700
TZNAME:MST
DTSTART:20210101T000000
END:STANDARD
END:VTIMEZONE
BEGIN:VEVENT
DTSTART;VALUE=DATE:20250824
DTEND;VALUE=DATE:20250828
DTSTAMP:20260425T094209
CREATED:20250211T220341Z
LAST-MODIFIED:20250211T220341Z
UID:11008-1755993600-1756339199@pnonline.com
SUMMARY:2025 PVA Summit + Expo
DESCRIPTION:Paralyzed Veterans of America 13th Annual Healthcare Summit + Expo
URL:https://pnonline.com/event/2025-pva-summit-expo/
LOCATION:Hyatt Regency New Orleans\, 601 Loyola Ave\, New Orleans\, LA\, United States
CATEGORIES:trade show
END:VEVENT
BEGIN:VEVENT
DTSTART;VALUE=DATE:20250812
DTEND;VALUE=DATE:20250815
DTSTAMP:20260425T094209
CREATED:20250730T162151Z
LAST-MODIFIED:20250730T162151Z
UID:11479-1754956800-1755215999@pnonline.com
SUMMARY:Valor Games - Chicago
DESCRIPTION:The Chicago Park District will host the 11th Annual Valor Games Midwest in Chicago\, IL on August 12-14\, 2025. Valor Games Midwest is a three-day Paralympic sport competition for disabled veterans and wounded\, ill\, or injured service members.
URL:https://pnonline.com/event/valor-games-chicago/
LOCATION:Burnham Park\, 1200-5700 S. Jean-Baptiste Pointe DuSable Lake Shore Drive\, Chicago\, IL\, 60615\, United States
CATEGORIES:accessible sports
END:VEVENT
BEGIN:VEVENT
DTSTART;VALUE=DATE:20250717
DTEND;VALUE=DATE:20250723
DTSTAMP:20260425T094209
CREATED:20250211T221229Z
LAST-MODIFIED:20250211T221229Z
UID:11012-1752710400-1753228799@pnonline.com
SUMMARY:2025 NVWG
DESCRIPTION:
URL:https://pnonline.com/event/2025-nvwg/
LOCATION:IL
CATEGORIES:National Veterans Wheelchair Games
END:VEVENT
BEGIN:VEVENT
DTSTART;VALUE=DATE:20250512
DTEND;VALUE=DATE:20250519
DTSTAMP:20260425T094209
CREATED:20250218T204013Z
LAST-MODIFIED:20250218T204013Z
UID:11032-1747008000-1747612799@pnonline.com
SUMMARY:PVA 79th Annual Convention
DESCRIPTION:
URL:https://pnonline.com/event/pva-79th-annual-convention/
LOCATION:Hilton Austin\, 500 E. 4th Street\, Austin\, TX\, 78701\, United States
CATEGORIES:PVA
END:VEVENT
BEGIN:VEVENT
DTSTART;VALUE=DATE:20241206
DTEND;VALUE=DATE:20241209
DTSTAMP:20260425T094209
CREATED:20231215T130038Z
LAST-MODIFIED:20231215T181130Z
UID:8722-1733443200-1733702399@pnonline.com
SUMMARY:Abilities Expo - Dallas
DESCRIPTION:The Abilities Expo returns to Dallas
URL:https://pnonline.com/event/abilities-expo-dallas/
LOCATION:Dallas Market Hall\, 2200 N Stemmons Fwy\, Dallas\, TX\, 75207\, United States
CATEGORIES:consumer,trade show
END:VEVENT
BEGIN:VEVENT
DTSTART;VALUE=DATE:20241111
DTEND;VALUE=DATE:20241112
DTSTAMP:20260425T094209
CREATED:20231002T222954Z
LAST-MODIFIED:20231215T181257Z
UID:9699-1731283200-1731369599@pnonline.com
SUMMARY:Veterans Day
DESCRIPTION:Celebrate the service of the mean and women of our military
URL:https://pnonline.com/event/veterans-day/
LOCATION:IL
END:VEVENT
BEGIN:VEVENT
DTSTART;VALUE=DATE:20241110
DTEND;VALUE=DATE:20241111
DTSTAMP:20260425T094209
CREATED:20231002T223152Z
LAST-MODIFIED:20231215T181430Z
UID:9701-1731196800-1731283199@pnonline.com
SUMMARY:U.S. Marine Corps Birthday
DESCRIPTION:The United States Marine Corps turns 249 years old
URL:https://pnonline.com/event/u-s-marine-corps-birthday/
LOCATION:IL
END:VEVENT
BEGIN:VEVENT
DTSTART;VALUE=DATE:20241018
DTEND;VALUE=DATE:20241021
DTSTAMP:20260425T094209
CREATED:20231215T130004Z
LAST-MODIFIED:20231215T181033Z
UID:9257-1729209600-1729468799@pnonline.com
SUMMARY:Abilities Expo - Ft. Lauderdale
DESCRIPTION:The Abilities Expo comes to Florida
URL:https://pnonline.com/event/abilities-expo-ft-lauderdale/
LOCATION:Broward County Convention Center\, 1950 Eisenhower Blvd\, Fort Lauderdale\, FL\, 33316\, United States
CATEGORIES:consumer,trade show
END:VEVENT
BEGIN:VEVENT
DTSTART;VALUE=DATE:20241013
DTEND;VALUE=DATE:20241014
DTSTAMP:20260425T094209
CREATED:20231002T222717Z
LAST-MODIFIED:20231215T181520Z
UID:9697-1728777600-1728863999@pnonline.com
SUMMARY:U.S. Navy Birthday
DESCRIPTION:The United States Navy 249th birthday
URL:https://pnonline.com/event/u-s-navy-birthday/
LOCATION:IL
END:VEVENT
BEGIN:VEVENT
DTSTART;VALUE=DATE:20240906
DTEND;VALUE=DATE:20240909
DTSTAMP:20260425T094209
CREATED:20231215T130048Z
LAST-MODIFIED:20231215T180927Z
UID:8717-1725580800-1725839999@pnonline.com
SUMMARY:Abilities Expo - Phoenix
DESCRIPTION:The Abilities Expo returns to the Valley of the Sun
URL:https://pnonline.com/event/abilities-expo-phoenix/
LOCATION:Westworld of Scottsdale\, 16601 N Pima Rd\, Scottsdale\, AZ\, 85260\, United States
CATEGORIES:consumer,trade show
END:VEVENT
BEGIN:VEVENT
DTSTART;VALUE=DATE:20240802
DTEND;VALUE=DATE:20240805
DTSTAMP:20260425T094209
CREATED:20231215T130041Z
LAST-MODIFIED:20231215T180828Z
UID:8715-1722556800-1722815999@pnonline.com
SUMMARY:Abilities Expo - Houston
DESCRIPTION:The Abilities Expo returns to the Houston area
URL:https://pnonline.com/event/abilities-expo-houston/
LOCATION:NRG Center\, 1 NRG Park\, Houston\, TX\, 77054\, United States
CATEGORIES:consumer,trade show
END:VEVENT
BEGIN:VEVENT
DTSTART;VALUE=DATE:20240725
DTEND;VALUE=DATE:20240731
DTSTAMP:20260425T094209
CREATED:20231215T130002Z
LAST-MODIFIED:20231215T182230Z
UID:9214-1721865600-1722383999@pnonline.com
SUMMARY:2024 National Veterans Wheelchair Games
DESCRIPTION:The Big Easy is calling as more than 500 athletes competing in 22 sports
URL:https://pnonline.com/event/2023-national-veterans-wheelchair-games/
LOCATION:New Orleans Ernest N. Morial Convention Center\, LA\, 70130\, United States
CATEGORIES:National Veterans Wheelchair Games
END:VEVENT
BEGIN:VEVENT
DTSTART;TZID=America/Phoenix:20240627T080000
DTEND;TZID=America/Phoenix:20240630T170000
DTSTAMP:20260425T094209
CREATED:20240308T173955Z
LAST-MODIFIED:20240308T174037Z
UID:10011-1719475200-1719766800@pnonline.com
SUMMARY:PVA National Bowling Championships
DESCRIPTION:
URL:https://pnonline.com/event/pva-national-bowling-championships/
LOCATION:Mockingbird Lanes\, 4870 S 96th St Suite A\, Omaha\, NE\, 68127\, United States
CATEGORIES:PVA Sports
END:VEVENT
BEGIN:VEVENT
DTSTART;VALUE=DATE:20240621
DTEND;VALUE=DATE:20240624
DTSTAMP:20260425T094209
CREATED:20231215T130027Z
LAST-MODIFIED:20231215T180658Z
UID:8713-1718928000-1719187199@pnonline.com
SUMMARY:Abilities Expo - Chicago
DESCRIPTION:The Abilities Expo returns to the greater Chicagoland area
URL:https://pnonline.com/event/abilities-expo-chicago/
LOCATION:Renaissance Schaumburg Convention Center\, 1551 North Thoreau Dr.\, Schaumburg\, IL\, 60173\, United States
CATEGORIES:consumer,trade show
END:VEVENT
BEGIN:VEVENT
DTSTART;VALUE=DATE:20240503
DTEND;VALUE=DATE:20240506
DTSTAMP:20260425T094209
CREATED:20231215T130023Z
LAST-MODIFIED:20231215T180558Z
UID:9255-1714694400-1714953599@pnonline.com
SUMMARY:Abilities Expo - New York
DESCRIPTION:The Abilities Expo returns to the greater New York area
URL:https://pnonline.com/event/abilities-expo-new-york/
LOCATION:New Jersey Convention Center\, 97 Sunfield Ave\, Edison\, NJ\, 08837\, United States
CATEGORIES:consumer,trade show
END:VEVENT
BEGIN:VEVENT
DTSTART;VALUE=DATE:20240315
DTEND;VALUE=DATE:20240318
DTSTAMP:20260425T094209
CREATED:20231215T130028Z
LAST-MODIFIED:20231215T180440Z
UID:8724-1710460800-1710719999@pnonline.com
SUMMARY:Abilities Expo - Los Angeles
DESCRIPTION:The Abilities Expo returns to the City of Angels
URL:https://pnonline.com/event/abilities-expo-los-angeles/
LOCATION:Los Angeles Convention Center\, 1201 S Figueroa Street\, Los Angeles\, CA\, 90015\, United States
CATEGORIES:consumer
END:VEVENT
BEGIN:VEVENT
DTSTART;VALUE=DATE:20240111
DTEND;VALUE=DATE:20240115
DTSTAMP:20260425T094209
CREATED:20231219T130054Z
LAST-MODIFIED:20231219T193245Z
UID:9260-1704931200-1705276799@pnonline.com
SUMMARY:2024 PVA Wheelchair Rugby Invitational
DESCRIPTION:Sixteen teams will play 48 games over 3 days to determine the winner of the Code of Honor Cup
URL:https://pnonline.com/event/2023-pva-wheelchair-rugby-invitational/
LOCATION:Kentucky International Convention Center\, 211 S. 4th Street\, Louisville\, KY\, 40202\, United States
CATEGORIES:quad rugby
END:VEVENT
BEGIN:VEVENT
DTSTART;VALUE=DATE:20230913
DTEND;VALUE=DATE:20230919
DTSTAMP:20260425T094209
CREATED:20230124T222347Z
LAST-MODIFIED:20230124T222415Z
UID:9265-1694563200-1695081599@pnonline.com
SUMMARY:Pocahontas Off-Road Handcycling Fall Camp
DESCRIPTION:Designed to get PVA members and other Veterans outdoors\, PVA’s off-road camps are a great way to experience the beauty of America’s national and state parks. The camps are organized in parks with trails able to meet the needs of adaptive bikes with a wider wheelbase. Participants can look forward to an exciting experience\, while testing their endurance and skills\, and increasing their confidence to tackle their next great adventure.
URL:https://pnonline.com/event/pocahontas-off-road-handcycling-fall-camp/
LOCATION:Pocahantas State Park\, 10301 State Park Rd\, Chesterfield\, VA\, 23832\, United States
CATEGORIES:accessible sports,off road handcycling
END:VEVENT
BEGIN:VEVENT
DTSTART;VALUE=DATE:20230812
DTEND;VALUE=DATE:20230822
DTSTAMP:20260425T094209
CREATED:20230124T222751Z
LAST-MODIFIED:20230124T223128Z
UID:9267-1691798400-1692662399@pnonline.com
SUMMARY:PVA Racing High Performance Off-Road Camp and Championships
DESCRIPTION:Designed to get PVA members and other Veterans outdoors\, PVA’s off-road camps are a great way to experience the beauty of America’s national and state parks. The camps are organized in parks with trails able to meet the needs of adaptive bikes with a wider wheelbase. Participants can look forward to an exciting experience\, while testing their endurance and skills\, and increasing their confidence to tackle their next great adventure. \nThe Off Road Handcycling Championships take place Aug 18-20 within the scope of this event. \nFor more information or to register for this event\, please visit the organizer’s website linked below.
URL:https://pnonline.com/event/pva-racing-high-performance-off-road-camp/
LOCATION:IL
CATEGORIES:off road handcycling,PVA Racing
END:VEVENT
BEGIN:VEVENT
DTSTART;VALUE=DATE:20230412
DTEND;VALUE=DATE:20230418
DTSTAMP:20260425T094209
CREATED:20230124T221944Z
LAST-MODIFIED:20230124T221944Z
UID:9263-1681257600-1681775999@pnonline.com
SUMMARY:Pocahontas Off-Road Handcycling Spring Camp
DESCRIPTION:Designed to get PVA members and other Veterans outdoors\, PVA’s off-road camps are a great way to experience the beauty of America’s national and state parks. The camps are organized in parks with trails able to meet the needs of adaptive bikes with a wider wheelbase. Participants can look forward to an exciting experience\, while testing their endurance and skills\, and increasing their confidence to tackle their next great adventure.
URL:https://pnonline.com/event/pocahontas-off-road-handcycling-spring-camp/
LOCATION:Pocahantas State Park\, 10301 State Park Rd\, Chesterfield\, VA\, 23832\, United States
CATEGORIES:accessible sports,off road handcycling
END:VEVENT
BEGIN:VEVENT
DTSTART;TZID=America/Phoenix:20220916T080000
DTEND;TZID=America/Phoenix:20220918T170000
DTSTAMP:20260425T094209
CREATED:20220615T215233Z
LAST-MODIFIED:20220615T215233Z
UID:8726-1663315200-1663520400@pnonline.com
SUMMARY:2022 PVA Wheelchair Rugby Clinic
DESCRIPTION:Learn new skills or improve your moves from world-class coaching
URL:https://pnonline.com/event/2022-pva-wheelchair-rugby-clinic/
LOCATION:Ability360 Sports and Fitness Center\, Phoenix AZ\, 5031 E Washington St\, Phoenix\, AZ\, 85034\, United States
CATEGORIES:accessible sports,quad rugby
END:VEVENT
BEGIN:VEVENT
DTSTART;VALUE=DATE:20220819
DTEND;VALUE=DATE:20220829
DTSTAMP:20260425T094209
CREATED:20220524T215201Z
LAST-MODIFIED:20220524T215201Z
UID:8499-1660867200-1661731199@pnonline.com
SUMMARY:2022 Department of Defense Warrior Games
DESCRIPTION:The 2022 DoD Warrior Games\, hosted by the United States Army return
URL:https://pnonline.com/event/2022-department-of-defense-warrior-games/
LOCATION:ESPN Wide World of Sports Complex\, 700 S Victory Way\, Orlando\, FL\, 34747\, United States
CATEGORIES:accessible sports,disabled veterans
END:VEVENT
END:VCALENDAR