BEGIN:VCALENDAR
VERSION:2.0
PRODID:-//PN Online - ECPv6.15.20//NONSGML v1.0//EN
CALSCALE:GREGORIAN
METHOD:PUBLISH
X-WR-CALNAME:PN Online
X-ORIGINAL-URL:https://pnonline.com
X-WR-CALDESC:Events for PN Online
REFRESH-INTERVAL;VALUE=DURATION:PT1H
X-Robots-Tag:noindex
X-PUBLISHED-TTL:PT1H
BEGIN:VTIMEZONE
TZID:America/Phoenix
BEGIN:STANDARD
TZOFFSETFROM:-0700
TZOFFSETTO:-0700
TZNAME:MST
DTSTART:20250101T000000
END:STANDARD
END:VTIMEZONE
BEGIN:VEVENT
DTSTART;VALUE=DATE:20260326
DTEND;VALUE=DATE:20260329
DTSTAMP:20260425T093856
CREATED:20260205T191128Z
LAST-MODIFIED:20260205T191300Z
UID:11923-1774483200-1774742399@pnonline.com
SUMMARY:2026 Abilities International Accessibility Conference - Los Angeles
DESCRIPTION:A series of regional industry conferences for complex rehab technology professionals where expertise is elevated – earn CEUs\, network and collaborate.
URL:https://pnonline.com/event/2026-abilities-international-accessibility-conference-los-angeles/
LOCATION:Long Beach Convention Center\, 300 E Ocean Blvd\, Long Beach\, CA\, 90802\, United States
CATEGORIES:Health Expo
END:VEVENT
BEGIN:VEVENT
DTSTART;VALUE=DATE:20260327
DTEND;VALUE=DATE:20260330
DTSTAMP:20260425T093856
CREATED:20260205T174035Z
LAST-MODIFIED:20260205T174035Z
UID:11904-1774569600-1774828799@pnonline.com
SUMMARY:2026 Abilities Expo Los Angeles
DESCRIPTION:The LA Abilities Expo moves to Long Beach. In addition\, the Abilities International will be holding an accessibility conference. More Info here
URL:https://pnonline.com/event/2026-abilities-expo-los-angeles/
LOCATION:Long Beach Convention Center\, 300 E Ocean Blvd\, Long Beach\, CA\, 90802\, United States
CATEGORIES:consumer
END:VEVENT
BEGIN:VEVENT
DTSTART;VALUE=DATE:20260430
DTEND;VALUE=DATE:20260502
DTSTAMP:20260425T093856
CREATED:20260205T191505Z
LAST-MODIFIED:20260205T191505Z
UID:11926-1777507200-1777679999@pnonline.com
SUMMARY:2026 Abilities International Accessibility Conference - New York Metro
DESCRIPTION:xpo \n 
URL:https://pnonline.com/event/2026-abilities-international-accessibility-conference-new-york-metro/
LOCATION:New Jersey Convention Center\, 97 Sunfield Ave\, Edison\, NJ\, 08837\, United States
CATEGORIES:Health Expo
END:VEVENT
BEGIN:VEVENT
DTSTART;VALUE=DATE:20260501
DTEND;VALUE=DATE:20260504
DTSTAMP:20260425T093856
CREATED:20260205T174211Z
LAST-MODIFIED:20260205T174211Z
UID:11907-1777593600-1777852799@pnonline.com
SUMMARY:2026 Abilities Expo New York Metro
DESCRIPTION:
URL:https://pnonline.com/event/2026-abilities-expo-new-york-metro/
LOCATION:New Jersey Convention Center\, 97 Sunfield Ave\, Edison\, NJ\, 08837\, United States
CATEGORIES:consumer
END:VEVENT
BEGIN:VEVENT
DTSTART;VALUE=DATE:20260611
DTEND;VALUE=DATE:20260613
DTSTAMP:20260425T093856
CREATED:20260205T191725Z
LAST-MODIFIED:20260205T191725Z
UID:11929-1781136000-1781308799@pnonline.com
SUMMARY:2026 Abilities International Accessibility Conference - Chicago
DESCRIPTION:A series of regional industry conferences for complex rehab technology professionals where expertise is elevated – earn CEUs\, network and collaborate.
URL:https://pnonline.com/event/2026-abilities-international-accessibility-conference-chicago/
LOCATION:Renaissance Schaumburg Convention Center\, 1551 North Thoreau Dr.\, Schaumburg\, IL\, 60173\, United States
CATEGORIES:consumer,Health Expo
END:VEVENT
BEGIN:VEVENT
DTSTART;VALUE=DATE:20260612
DTEND;VALUE=DATE:20260615
DTSTAMP:20260425T093856
CREATED:20260205T174430Z
LAST-MODIFIED:20260205T174430Z
UID:11909-1781222400-1781481599@pnonline.com
SUMMARY:2026 Abilities Expo Chicago
DESCRIPTION:
URL:https://pnonline.com/event/2026-abilities-expo-chicago/
LOCATION:Renaissance Schaumburg Convention Center\, 1551 North Thoreau Dr.\, Schaumburg\, IL\, 60173\, United States
CATEGORIES:consumer
END:VEVENT
BEGIN:VEVENT
DTSTART;VALUE=DATE:20260709
DTEND;VALUE=DATE:20260715
DTSTAMP:20260425T093856
CREATED:20260205T174933Z
LAST-MODIFIED:20260205T174933Z
UID:11913-1783555200-1784073599@pnonline.com
SUMMARY:2026 National Veterans Wheelchair Games
DESCRIPTION:The 45th Annual NVWG head to the Motor City
URL:https://pnonline.com/event/2026-national-veterans-wheelchair-games/
LOCATION:IL
CATEGORIES:National Veterans Wheelchair Games
END:VEVENT
BEGIN:VEVENT
DTSTART;VALUE=DATE:20260731
DTEND;VALUE=DATE:20260803
DTSTAMP:20260425T093856
CREATED:20260205T174748Z
LAST-MODIFIED:20260205T174748Z
UID:11911-1785456000-1785715199@pnonline.com
SUMMARY:2026 Abilities Expo Houston
DESCRIPTION:
URL:https://pnonline.com/event/2026-abilities-expo-houston/
LOCATION:NRG Center\, 1 NRG Park\, Houston\, TX\, 77054\, United States
CATEGORIES:consumer
END:VEVENT
BEGIN:VEVENT
DTSTART;VALUE=DATE:20260911
DTEND;VALUE=DATE:20260914
DTSTAMP:20260425T093856
CREATED:20260205T175155Z
LAST-MODIFIED:20260205T175210Z
UID:11916-1789084800-1789343999@pnonline.com
SUMMARY:2026 Abilities Expo Phoenix
DESCRIPTION:
URL:https://pnonline.com/event/2026-abilities-expo-phoenix/
LOCATION:Westworld of Scottsdale\, 16601 N Pima Rd\, Scottsdale\, AZ\, 85260\, United States
CATEGORIES:consumer
END:VEVENT
BEGIN:VEVENT
DTSTART;VALUE=DATE:20261009
DTEND;VALUE=DATE:20261012
DTSTAMP:20260425T093856
CREATED:20260205T175517Z
LAST-MODIFIED:20260205T175517Z
UID:11918-1791504000-1791763199@pnonline.com
SUMMARY:2026 Abilities Expo Orlando
DESCRIPTION:
URL:https://pnonline.com/event/2026-abilities-expo-orlando/
LOCATION:Osceola Heritage Park Events Center\, 1875 Silver Spur Ln\, Kissimmee\, FL\, 34744\, United States
CATEGORIES:consumer
END:VEVENT
BEGIN:VEVENT
DTSTART;VALUE=DATE:20261204
DTEND;VALUE=DATE:20261207
DTSTAMP:20260425T093856
CREATED:20260205T190710Z
LAST-MODIFIED:20260205T190710Z
UID:11921-1796342400-1796601599@pnonline.com
SUMMARY:2026 Abilities Expo Dallas
DESCRIPTION:
URL:https://pnonline.com/event/2026-abilities-expo-dallas/
LOCATION:Dallas Market Hall\, 2200 N Stemmons Fwy\, Dallas\, TX\, 75207\, United States
CATEGORIES:consumer
END:VEVENT
END:VCALENDAR