BEGIN:VCALENDAR
VERSION:2.0
PRODID:-//PN Online - ECPv6.15.20//NONSGML v1.0//EN
CALSCALE:GREGORIAN
METHOD:PUBLISH
X-WR-CALNAME:PN Online
X-ORIGINAL-URL:https://pnonline.com
X-WR-CALDESC:Events for PN Online
REFRESH-INTERVAL;VALUE=DURATION:PT1H
X-Robots-Tag:noindex
X-PUBLISHED-TTL:PT1H
BEGIN:VTIMEZONE
TZID:America/Phoenix
BEGIN:STANDARD
TZOFFSETFROM:-0700
TZOFFSETTO:-0700
TZNAME:MST
DTSTART:20250101T000000
END:STANDARD
END:VTIMEZONE
BEGIN:VEVENT
DTSTART;VALUE=DATE:20260326
DTEND;VALUE=DATE:20260329
DTSTAMP:20260424T093535
CREATED:20260205T191128Z
LAST-MODIFIED:20260205T191300Z
UID:11923-1774483200-1774742399@pnonline.com
SUMMARY:2026 Abilities International Accessibility Conference - Los Angeles
DESCRIPTION:A series of regional industry conferences for complex rehab technology professionals where expertise is elevated – earn CEUs\, network and collaborate.
URL:https://pnonline.com/event/2026-abilities-international-accessibility-conference-los-angeles/
LOCATION:Long Beach Convention Center\, 300 E Ocean Blvd\, Long Beach\, CA\, 90802\, United States
CATEGORIES:Health Expo
END:VEVENT
BEGIN:VEVENT
DTSTART;VALUE=DATE:20260327
DTEND;VALUE=DATE:20260330
DTSTAMP:20260424T093535
CREATED:20260205T174035Z
LAST-MODIFIED:20260205T174035Z
UID:11904-1774569600-1774828799@pnonline.com
SUMMARY:2026 Abilities Expo Los Angeles
DESCRIPTION:The LA Abilities Expo moves to Long Beach. In addition\, the Abilities International will be holding an accessibility conference. More Info here
URL:https://pnonline.com/event/2026-abilities-expo-los-angeles/
LOCATION:Long Beach Convention Center\, 300 E Ocean Blvd\, Long Beach\, CA\, 90802\, United States
CATEGORIES:consumer
END:VEVENT
END:VCALENDAR